BEGIN:VCALENDAR
VERSION:2.0
PRODID:-//ExpressionEngine Easy iCalendar plugin//NONSGML v2.0.1//EN
X-WR-TIMEZONE:America/New_York
X-WR-CALNAME:Upcoming Auctions
BEGIN:VEVENT
UID:158064
DTSTAMP:20260305T120000
DTSTART:20260305T120000
DTEND:20260409T180000
SUMMARY:SOLD $90\,200 - 5 Bedroom on 2.37 Acres in Nicholas County
LOCATION:50 Charlie St\, Cragisville\, WV 26205\, US
DESCRIPTION:Online Real Estate Auction   Bidding begins closing Thursda
 y\, April 9th at 6:00PM To schedule an inspection please call
  Brooke Patterson\, Salesperson\, at 304-919-4942   50 Charle
 s St Craigsville\, WV   5 Bedroom Home on 2.37 +/- Acres
URL:https://www.joerpyleauctions.com/auctions/detail/bw158064
SEQUENCE:1
END:VEVENT
END:VCALENDAR