BEGIN:VCALENDAR
VERSION:2.0
PRODID:-//ExpressionEngine Easy iCalendar plugin//NONSGML v2.0.1//EN
X-WR-TIMEZONE:America/New_York
X-WR-CALNAME:Upcoming Auctions
BEGIN:VEVENT
UID:158068
DTSTAMP:20260305T130000
DTSTART:20260305T130000
DTEND:20260414T180000
SUMMARY:SOLD $66\,000 - Two Story Commercial Building on 0.87 Acres A
 long WV-310 in Fairmont
LOCATION:2484 E Grafton Rd\, Fairmont\, WV 26554\, US
DESCRIPTION:Online Commercial Real Estate Auction   Bidding begins clos
 ing Tuesday\, April 14th at 6:00PM Preview: Monday\, April 13t
 h 5p-6p   2484 E Grafton Rd Fairmont\, WV   Two Story\, 3\,24
 8 +/- Sqft Building on 0.87 +/- Acres Along WV-310 ***Previo
 usly Known as O’Dells Convenience Store*** ***Outside City
  Limits*** ***No Zoning***
URL:https://www.joerpyleauctions.com/auctions/detail/bw158068
SEQUENCE:1
END:VEVENT
END:VCALENDAR