BEGIN:VCALENDAR
VERSION:2.0
PRODID:-//ExpressionEngine Easy iCalendar plugin//NONSGML v2.0.1//EN
X-WR-TIMEZONE:America/New_York
X-WR-CALNAME:Upcoming Auctions
BEGIN:VEVENT
UID:158233
DTSTAMP:20260309T120000
DTSTART:20260309T120000
DTEND:20260407T180000
SUMMARY:Vanderbilt\, PA — Downsizing Auction: Yardmax Rototiller\, T
 ools\, Furniture\, Electronics\, Toys\, Trains\, Bounce House\, Sl
 eds\, Pyrex\, Household Items\, Appliances\, Costume Jewelry\, Co
 llectibles\, Longaberger & More!
LOCATION:501 Town and Country Road\, Vanderbilt\, PA 15486\, US
DESCRIPTION:Online Downsizing Auction Bidding begins closing Tuesday\, Ap
 ril 7th at 6pm Large Assortment of Items: Rototiller Tools E
 lectronics Super Mario Wii Trains Toys Bounce House   Furni
 ture: Bedroom Suite Tables China Cabinets Sellers Cabinet Ch
 airs Shelves Pictures   Appliances: Freezer Stove Grills  
  Costume Jewelry and More!
URL:https://www.joerpyleauctions.com/auctions/detail/bw158233
SEQUENCE:1
END:VEVENT
END:VCALENDAR