BEGIN:VCALENDAR
VERSION:2.0
PRODID:-//ExpressionEngine Easy iCalendar plugin//NONSGML v2.0.1//EN
X-WR-TIMEZONE:America/New_York
X-WR-CALNAME:Upcoming Auctions
BEGIN:VEVENT
UID:158263
DTSTAMP:20260309T120000
DTSTART:20260309T120000
DTEND:20260408T180000
SUMMARY:SOLD $23\,375 - 3 Bedroom in Spencer
LOCATION:114 Elm St.\, Spencer\, WV 25276\, US
DESCRIPTION:Online Real Estate Auction   Bidding begins closing Wednesd
 ay\, April 8th at 6:00PM   114 Elm St. Spencer\, WV   Nice P
 otential for a Rental or Flip
URL:https://www.joerpyleauctions.com/auctions/detail/bw158263
SEQUENCE:1
END:VEVENT
END:VCALENDAR