BEGIN:VCALENDAR
VERSION:2.0
PRODID:-//ExpressionEngine Easy iCalendar plugin//NONSGML v2.0.0//EN
X-WR-TIMEZONE:America/New_York
X-WR-CALNAME:Upcoming Auctions
BEGIN:VEVENT
UID:159424
DTSTAMP:20260423T120000
DTSTART:20260423T120000
DTEND:20260423T180000
SUMMARY:On Eagles' Wings Benefit BBQ & Auction
LOCATION:371 Opekiska Ridge Road\, Fairmont\, WV 26554\, US
DESCRIPTION:On Eagles' Wings Benefit BBQ & Auction
URL:https://www.joerpyleauctions.com/auctions/detail/bw159424
SEQUENCE:1
END:VEVENT
END:VCALENDAR