BEGIN:VCALENDAR
VERSION:2.0
PRODID:-//ExpressionEngine Easy iCalendar plugin//NONSGML v2.0.1//EN
X-WR-TIMEZONE:America/New_York
X-WR-CALNAME:Upcoming Auctions
BEGIN:VEVENT
UID:160627
DTSTAMP:20260416T220000
DTSTART:20260416T220000
DTEND:20260519T180000
SUMMARY:Prime Office Building in High Traffic Vienna Location Sellin
 g to the Highest Bidder
LOCATION:1510 Grand Central Ave\, Vienna\, WV 26105\, US
DESCRIPTION:Online Absolute Real Estate Auction Bidding begins closing T
 uesday\, May 19th at 6:00PM   1510 Grand Central Ave Vienna\,
  WV 26105   Selling to the Highest Bidder
URL:https://www.joerpyleauctions.com/auctions/detail/bw160627
SEQUENCE:1
END:VEVENT
END:VCALENDAR