BEGIN:VCALENDAR
VERSION:2.0
PRODID:-//ExpressionEngine Easy iCalendar plugin//NONSGML v2.0.1//EN
X-WR-TIMEZONE:America/New_York
X-WR-CALNAME:Upcoming Auctions
BEGIN:VEVENT
UID:160663
DTSTAMP:20260417T120000
DTSTART:20260417T120000
DTEND:20260519T180000
SUMMARY:Smock\, PA:  Furniture\, Pyrex\, Pocket Knives\, Collectibles\, B
 ose Radio\, Stoneware\, Push Mower\, Lamps\, Telephones\, Lift Ch
 air\, Hats\, TV's\, Stove\, and More!
LOCATION:{location}
DESCRIPTION:ONLINE ESTATE AUCTION Bidding begins closing: Tuesday\, May 1
 9th\, 2026\, 6PM Furniture Collectibles Pocket Knives Stonewar
 e Push Mower Lamps Lift Chair Cameras Bose Radio Pyrex And M
 ore!
URL:https://www.joerpyleauctions.com/auctions/detail/bw160663
SEQUENCE:1
END:VEVENT
END:VCALENDAR