BEGIN:VCALENDAR
VERSION:2.0
PRODID:-//ExpressionEngine Easy iCalendar plugin//NONSGML v2.0.1//EN
X-WR-TIMEZONE:America/New_York
X-WR-CALNAME:Upcoming Auctions
BEGIN:VEVENT
UID:160690
DTSTAMP:20260417T140000
DTSTART:20260417T140000
DTEND:20260506T180000
SUMMARY:Farmington\, WV -- ESTATE SALE - Nice Selection of Fenton Gla
 ssware\, Country Style Decor\, Quality Furniture\, Household Go
 ods\, Vintage Jewelry\, Home Decor Items\, and MUCH MORE!!
LOCATION:3036 Main Street\, Farmington\, WV 26571\, US
DESCRIPTION:ONLINE ESTATE AUCTION Bidding begins closing Wednesday\, May 
 6th 6PM Huge Selection of Fenton Glassware & China Variety o
 f Vases\, Viking Vases\, Hand Painted Lamps Country Style Home
  Decor - Roosters\, Chickens\, Household Goods Quality Furnitu
 re\, Display Cabinets\, Bedroom Suites\, Living Room Furniture 
 Seasonal Decor\, Christmas Ceramics\, Spring Decor\, and Fall A
 ntiques\, Collectibles\, Lawn & Garden Items
URL:https://www.joerpyleauctions.com/auctions/detail/bw160690
SEQUENCE:1
END:VEVENT
END:VCALENDAR