BEGIN:VCALENDAR
VERSION:2.0
PRODID:-//ExpressionEngine Easy iCalendar plugin//NONSGML v2.0.1//EN
X-WR-TIMEZONE:America/New_York
X-WR-CALNAME:Upcoming Auctions
BEGIN:VEVENT
UID:160721
DTSTAMP:20260418T093000
DTSTART:20260418T093000
DTEND:20260611T180000
SUMMARY:6.4 PRIME Commercial Acres on the Mileground in Morgantown
LOCATION:Mileground\, Morgantown\, WV 26505\, US
DESCRIPTION:MAJOR COMMERCIAL LAND AT AUCTION   ***EXTREMELY RARE INVEST
 MENT OPPORTUNITY***   6.40 +/- Acres on the Mileground in M
 organtown   Presented By: Joe R. Pyle Complete Auction & Re
 alty In cooperation with Howard Hanna Premier Properties   
 Bidding begins closing Thursday\, June 11th at 6:00PM   PRIM
 E COMMERCIAL DEVELOPMENT OPPORTUNITY   Positioned along one
  of Morgantown’s most heavily traveled corridors\, this 6.4
 0-acre tract offers exceptional visibility\, accessibility\, a
 nd flexibility for development
URL:https://www.joerpyleauctions.com/auctions/detail/bw160721
SEQUENCE:1
END:VEVENT
END:VCALENDAR