BEGIN:VCALENDAR
VERSION:2.0
PRODID:-//ExpressionEngine Easy iCalendar plugin//NONSGML v2.0.1//EN
X-WR-TIMEZONE:America/New_York
X-WR-CALNAME:Upcoming Auctions
BEGIN:VEVENT
UID:160918
DTSTAMP:20260421T180000
DTSTART:20260421T180000
DTEND:20260512T110000
SUMMARY:3 Bedroom Condo in Charleston’s Hunters Ridge
LOCATION:402 Bow Hunter Rd\, Charleston\, WV 25314\, US
DESCRIPTION:Secured Party Real Estate Auction Tuesday\, May 12th at 11:00
 AM Registration Begins at 10:30AM AUCTION HELD AT THE KANAWH
 A COUNTY COURTHOUSE   Property Address: 402 Bow Hunter Rd C
 harleston\, WV   3 BEDROOM CONDO IN HUNTERS RIDGE  
URL:https://www.joerpyleauctions.com/auctions/detail/bw160918
SEQUENCE:1
END:VEVENT
END:VCALENDAR