BEGIN:VCALENDAR
VERSION:2.0
PRODID:-//ExpressionEngine Easy iCalendar plugin//NONSGML v2.0.1//EN
X-WR-TIMEZONE:America/New_York
X-WR-CALNAME:Upcoming Auctions
BEGIN:VEVENT
UID:160920
DTSTAMP:20260421T120000
DTSTART:20260421T120000
DTEND:20260514T180000
SUMMARY:Morgantown\, WV -- JD Lawn Tractor\, Game Mounts\, Furniture\, H
 ousehold Goods\, Fiesta\, Kitchen Items\, Lawn & Garden
LOCATION:114 Arbogast Lane\, Morgantown\, WV 26508\, US
DESCRIPTION:Online Personal Property Auction Lots begin closing Thursday
 \, May 14th at 6pm JD Lawn Tractor\, Hunting Goods\, Game Mount
 s Outdoor Gear\, Lawn & Garden Items Furniture\, Household Goo
 ds\, Kitchen Items\, Fiesta Electronics\, Small & Large Applian
 ces Cabbage Patch\, Dome Trunk\, Collectibles
URL:https://www.joerpyleauctions.com/auctions/detail/bw160920
SEQUENCE:1
END:VEVENT
END:VCALENDAR