BEGIN:VCALENDAR
VERSION:2.0
PRODID:-//ExpressionEngine Easy iCalendar plugin//NONSGML v2.0.1//EN
X-WR-TIMEZONE:America/New_York
X-WR-CALNAME:Upcoming Auctions
BEGIN:VEVENT
UID:160950
DTSTAMP:20260422T120000
DTSTART:20260422T120000
DTEND:20260514T180000
SUMMARY:Portsmouth\, OH -- Gym Equipment Auction\, Commercial-Grade Eq
 uipment\, Dumbbells\, Weight Benches\, Treadmills\, Tanning Bed 
 & More!
LOCATION:4645 Gallia Street\, Portsmouth \, OH 45662\, US
DESCRIPTION:Online Gym Equipment Auction Bidding begins closing Thursday
 \, May 14th at 6pm Commercial Grade Gym Equipment Dumbbells W
 eights Weight Benches Treadmills Tanning Bed And More!
URL:https://www.joerpyleauctions.com/auctions/detail/bw160950
SEQUENCE:1
END:VEVENT
END:VCALENDAR