BEGIN:VCALENDAR
VERSION:2.0
PRODID:-//ExpressionEngine Easy iCalendar plugin//NONSGML v2.0.1//EN
X-WR-TIMEZONE:America/New_York
X-WR-CALNAME:Upcoming Auctions
BEGIN:VEVENT
UID:57395
DTSTAMP:20201209T103001
DTSTART:20201209T103001
DTEND:20201209T113001
SUMMARY:Bowling Alley Liquidation
LOCATION:1203 East Pike Street\, Clarksburg\, WV 26301\, US
DESCRIPTION:BUSINESS LIQUIDATION AUCTION Wednesday\, December 9th at 10:3
 0AM Registration & Inspection Begin at 9:00AM The Former Com
 pton Bowling Lanes 1203 East Pike Street Clarksburg\, WV 2630
 1
URL:https://www.joerpyleauctions.com/auctions/detail/bw57395
SEQUENCE:1
END:VEVENT
END:VCALENDAR