BEGIN:VCALENDAR
VERSION:2.0
PRODID:-//ExpressionEngine Easy iCalendar plugin//NONSGML v2.0.1//EN
X-WR-TIMEZONE:America/New_York
X-WR-CALNAME:Upcoming Auctions
BEGIN:VEVENT
UID:99242
DTSTAMP:20230412T132700
DTSTART:20230412T132700
DTEND:20230502T180000
SUMMARY:Grafton\, WV – Tools\, Office Equipment\, Fixtures\, Furniture
  & More!
LOCATION:718 W. Main Street\, Grafton\, WV 26354\, US
DESCRIPTION:ONLINE ONLY PERSONAL PROPERTY AUCTION BIDDING BEGINS CLOSING
 : Tuesday\, May 2nd at 6pm The Liquidation of the Former Tayl
 or County Health Department Office Tools\, Office Equipment\, 
 Fixtures\, Furniture\, & Much More!
URL:https://www.joerpyleauctions.com/auctions/detail/bw99242
SEQUENCE:1
END:VEVENT
END:VCALENDAR